BEGIN:VCALENDAR
VERSION:2.0
PRODID:-//Plone.org//NONSGML plone.app.event//EN
X-WR-TIMEZONE:America/Argentina/Buenos_Aires
BEGIN:VEVENT
SUMMARY: Congresso Técnico Esportes 19h
DTSTART;VALUE=DATE:20190201
DTEND;VALUE=DATE:20190202
DTSTAMP;VALUE=DATE-TIME:20260421T193351Z
UID:a4357592420342e29552b769fd23a2f3@www.carambei.pr.leg.br
CREATED;VALUE=DATE-TIME:20190124T152940Z
LAST-MODIFIED;VALUE=DATE-TIME:20190124T153103Z
URL:https://www.carambei.pr.leg.br/institucional/agenda-de-eventos/congres
 so-tecnico-esportes-19h
END:VEVENT
END:VCALENDAR
