BEGIN:VCALENDAR
VERSION:2.0
PRODID:-//Plone.org//NONSGML plone.app.event//EN
X-WR-TIMEZONE:America/Argentina/Buenos_Aires
BEGIN:VEVENT
SUMMARY:Edital de Convocação  81/2021 24/09/2021
DTSTART;VALUE=DATE:20210924
DTEND;VALUE=DATE:20210925
DTSTAMP;VALUE=DATE-TIME:20260421T235115Z
UID:e87b6c481205423f806e2dcb8d45a1a1@www.carambei.pr.leg.br
CREATED;VALUE=DATE-TIME:20210916T193553Z
DESCRIPTION:População do Município de Carambeí/PR.\nConselheiros do FU
 NDEB\n\n
LAST-MODIFIED;VALUE=DATE-TIME:20210916T193603Z
URL:https://www.carambei.pr.leg.br/institucional/agenda-de-eventos/edital-
 de-convocacao-81-2021-24-09-2021
END:VEVENT
END:VCALENDAR
