BEGIN:VCALENDAR
VERSION:2.0
PRODID:-//Plone.org//NONSGML plone.app.event//EN
X-WR-TIMEZONE:America/Argentina/Buenos_Aires
BEGIN:VEVENT
SUMMARY:Edital de Convocação  82/2021 30/09/2021
DTSTART;VALUE=DATE:20210930
DTEND;VALUE=DATE:20211001
DTSTAMP;VALUE=DATE-TIME:20260422T030235Z
UID:62d039e6220445d79bc17e2e5ced9c62@www.carambei.pr.leg.br
CREATED;VALUE=DATE-TIME:20210916T195012Z
DESCRIPTION:Apresentação LOA\n– LEI ORÇAMENTÁRIA ANUAL 2021 para o e
 xercício 2022\, bem como\, os relatórios resumidos\ndos quantitativos e 
 os percentuais constitucional que serão aplicados na educação\, saúde 
 e\npessoal.
LAST-MODIFIED;VALUE=DATE-TIME:20210916T195021Z
URL:https://www.carambei.pr.leg.br/institucional/agenda-de-eventos/edital-
 de-convocacao-82-2021-30-09-2021
END:VEVENT
END:VCALENDAR
