BEGIN:VCALENDAR
VERSION:2.0
PRODID:-//Plone.org//NONSGML plone.app.event//EN
X-WR-TIMEZONE:America/Argentina/Buenos_Aires
BEGIN:VEVENT
SUMMARY:Evento Outubro Rosa
DTSTART;VALUE=DATE:20251017
DTEND;VALUE=DATE:20251018
DTSTAMP;VALUE=DATE-TIME:20260422T160141Z
UID:93361e44fc0442fd8bc2e59703e7c367@www.carambei.pr.leg.br
CREATED;VALUE=DATE-TIME:20251016T180539Z
LAST-MODIFIED;VALUE=DATE-TIME:20251016T180548Z
URL:https://www.carambei.pr.leg.br/institucional/agenda-de-eventos/evento-
 outubro-rosa
END:VEVENT
END:VCALENDAR
