BEGIN:VCALENDAR
VERSION:2.0
PRODID:-//Plone.org//NONSGML plone.app.event//EN
X-WR-TIMEZONE:America/Argentina/Buenos_Aires
BEGIN:VEVENT
SUMMARY:Justiça Eleitoral
DTSTART;VALUE=DATE:20240902
DTEND;VALUE=DATE:20240903
DTSTAMP;VALUE=DATE-TIME:20260422T060120Z
UID:374fcdf9345144219a6613681d1506c5@www.carambei.pr.leg.br
CREATED;VALUE=DATE-TIME:20240821T190723Z
LAST-MODIFIED;VALUE=DATE-TIME:20240821T190817Z
URL:https://www.carambei.pr.leg.br/institucional/agenda-de-eventos/justica
 -eleitoral
END:VEVENT
END:VCALENDAR
