BEGIN:VCALENDAR
VERSION:2.0
PRODID:-//Plone.org//NONSGML plone.app.event//EN
X-WR-TIMEZONE:America/Argentina/Buenos_Aires
BEGIN:VEVENT
SUMMARY:Palestra AGOSTO DOURADO 2022
DTSTART;VALUE=DATE:20220818
DTEND;VALUE=DATE:20220819
DTSTAMP;VALUE=DATE-TIME:20260421T231255Z
UID:27f2b2586f194870a311a322d2adbe26@www.carambei.pr.leg.br
CREATED;VALUE=DATE-TIME:20220808T192204Z
LAST-MODIFIED;VALUE=DATE-TIME:20220808T192212Z
URL:https://www.carambei.pr.leg.br/institucional/agenda-de-eventos/palestr
 a-agosto-dourado-2022
END:VEVENT
END:VCALENDAR
