BEGIN:VCALENDAR
VERSION:2.0
PRODID:-//Plone.org//NONSGML plone.app.event//EN
X-WR-TIMEZONE:America/Argentina/Buenos_Aires
BEGIN:VEVENT
SUMMARY: Palestra com a temática “Estratégia de Saúde da Família”
DTSTART;VALUE=DATE:20220708
DTEND;VALUE=DATE:20220709
DTSTAMP;VALUE=DATE-TIME:20260421T231209Z
UID:65c1bd0223754e5182fe86f6702f3ad3@www.carambei.pr.leg.br
CREATED;VALUE=DATE-TIME:20220706T164355Z
LAST-MODIFIED;VALUE=DATE-TIME:20220706T164407Z
URL:https://www.carambei.pr.leg.br/institucional/agenda-de-eventos/palestr
 a-com-a-tematica-201cestrategia-de-saude-da-familia201d
END:VEVENT
END:VCALENDAR
