BEGIN:VCALENDAR
VERSION:2.0
PRODID:-//Plone.org//NONSGML plone.app.event//EN
X-WR-TIMEZONE:America/Argentina/Buenos_Aires
BEGIN:VEVENT
SUMMARY:Primeira Audiência Pública 2024.  (Secretaria Municipal de Saúd
 e)
DTSTART;VALUE=DATE:20240527
DTEND;VALUE=DATE:20240528
DTSTAMP;VALUE=DATE-TIME:20260422T030735Z
UID:a4696ccf70c243128dd1404a9438c82b@www.carambei.pr.leg.br
CREATED;VALUE=DATE-TIME:20240515T181126Z
LAST-MODIFIED;VALUE=DATE-TIME:20240515T181135Z
URL:https://www.carambei.pr.leg.br/institucional/agenda-de-eventos/primeir
 a-audiencia-publica-2024-secretaria-municipal-de-saude
END:VEVENT
END:VCALENDAR
