BEGIN:VCALENDAR
VERSION:2.0
PRODID:-//Plone.org//NONSGML plone.app.event//EN
X-WR-TIMEZONE:America/Argentina/Buenos_Aires
BEGIN:VEVENT
SUMMARY:Reunião a pedido Vereador Eclaiton Anexo 13:30.
DTSTART;VALUE=DATE:20181114
DTEND;VALUE=DATE:20181115
DTSTAMP;VALUE=DATE-TIME:20260421T203854Z
UID:c4fb03fcff6d47709903dac1db89d8b4@www.carambei.pr.leg.br
CREATED;VALUE=DATE-TIME:20181113T201904Z
LAST-MODIFIED;VALUE=DATE-TIME:20181113T202736Z
URL:https://www.carambei.pr.leg.br/institucional/agenda-de-eventos/reuniao
 -a-pedido-vereador-eclaiton-anexo-13-30
END:VEVENT
END:VCALENDAR
