BEGIN:VCALENDAR
VERSION:2.0
PRODID:-//Plone.org//NONSGML plone.app.event//EN
X-WR-TIMEZONE:America/Argentina/Buenos_Aires
BEGIN:VEVENT
SUMMARY:Reunião Antitabagismo 13:30
DTSTART;VALUE=DATE:20170317
DTEND;VALUE=DATE:20170318
DTSTAMP;VALUE=DATE-TIME:20260422T041907Z
UID:8451eca42ac6468d903bb182e1305c0a@www.carambei.pr.leg.br
CREATED;VALUE=DATE-TIME:20170316T130158Z
LAST-MODIFIED;VALUE=DATE-TIME:20170316T130237Z
URL:https://www.carambei.pr.leg.br/institucional/agenda-de-eventos/reuniao
 -antitabagismo
END:VEVENT
END:VCALENDAR
