BEGIN:VCALENDAR
VERSION:2.0
PRODID:-//Plone.org//NONSGML plone.app.event//EN
X-WR-TIMEZONE:America/Argentina/Buenos_Aires
BEGIN:VEVENT
SUMMARY:Reunião Bombeiro Comunitário/Defesa Civil. 
DTSTART;VALUE=DATE:20170614
DTEND;VALUE=DATE:20170615
DTSTAMP;VALUE=DATE-TIME:20260421T203854Z
UID:9b2d0206cb2d4297b0ad23d90c456af6@www.carambei.pr.leg.br
CREATED;VALUE=DATE-TIME:20170614T110357Z
LAST-MODIFIED;VALUE=DATE-TIME:20170614T110410Z
URL:https://www.carambei.pr.leg.br/institucional/agenda-de-eventos/reuniao
 -bombeiro-comunitario-defesa-civil
END:VEVENT
END:VCALENDAR
