BEGIN:VCALENDAR
VERSION:2.0
PRODID:-//Plone.org//NONSGML plone.app.event//EN
X-WR-TIMEZONE:America/Argentina/Buenos_Aires
BEGIN:VEVENT
SUMMARY:Reunião Comissão de Obras e Serviços Público e Comissão de Tu
 rismo e Meio Ambiente	
DTSTART;VALUE=DATE:20241113
DTEND;VALUE=DATE:20241114
DTSTAMP;VALUE=DATE-TIME:20260422T043231Z
UID:9a19701b506b47c7b2582f85f15740ff@www.carambei.pr.leg.br
CREATED;VALUE=DATE-TIME:20241111T173356Z
LAST-MODIFIED;VALUE=DATE-TIME:20241111T173406Z
URL:https://www.carambei.pr.leg.br/institucional/agenda-de-eventos/reuniao
 -comissao-de-obras-e-servicos-publico-e-comissao-de-turismo-e-meio-ambient
 e
END:VEVENT
END:VCALENDAR
