BEGIN:VCALENDAR
VERSION:2.0
PRODID:-//Plone.org//NONSGML plone.app.event//EN
X-WR-TIMEZONE:America/Argentina/Buenos_Aires
BEGIN:VEVENT
SUMMARY:Reunião do Conselho Municipal de Saúde.
DTSTART;VALUE=DATE:20170519
DTEND;VALUE=DATE:20170520
DTSTAMP;VALUE=DATE-TIME:20260421T203855Z
UID:a0f460a0bdf14acd93c2714d27fe13dc@www.carambei.pr.leg.br
CREATED;VALUE=DATE-TIME:20170509T205102Z
LAST-MODIFIED;VALUE=DATE-TIME:20170509T205109Z
URL:https://www.carambei.pr.leg.br/institucional/agenda-de-eventos/reuniao
 -do-conselho-municipal-de-saude
END:VEVENT
END:VCALENDAR
