BEGIN:VCALENDAR
VERSION:2.0
PRODID:-//Plone.org//NONSGML plone.app.event//EN
X-WR-TIMEZONE:America/Argentina/Buenos_Aires
BEGIN:VEVENT
SUMMARY:REUNIÃO OAB
DTSTART;VALUE=DATE:20250926
DTEND;VALUE=DATE:20250927
DTSTAMP;VALUE=DATE-TIME:20260421T222518Z
UID:b9fbc227c8b140eba7ce9c01b9f5a585@www.carambei.pr.leg.br
CREATED;VALUE=DATE-TIME:20250924T194244Z
LAST-MODIFIED;VALUE=DATE-TIME:20250924T194251Z
URL:https://www.carambei.pr.leg.br/institucional/agenda-de-eventos/reuniao
 -oab
END:VEVENT
END:VCALENDAR
