BEGIN:VCALENDAR
VERSION:2.0
PRODID:-//Plone.org//NONSGML plone.app.event//EN
X-WR-TIMEZONE:America/Argentina/Buenos_Aires
BEGIN:VEVENT
SUMMARY:Reunião Projeto Antitabagismo.  13h30m às 15h30m.
DTSTART;VALUE=DATE:20170303
DTEND;VALUE=DATE:20170304
DTSTAMP;VALUE=DATE-TIME:20260421T203859Z
UID:d0e8567c92bd46bfa0a6167eb64b60ef@www.carambei.pr.leg.br
CREATED;VALUE=DATE-TIME:20170223T150031Z
DESCRIPTION:Ofício nº 045/2017 RH/SMS solicitando cessão de espaço reu
 nião Projeto Antitabagismo.\n\nhorário das 13h30m às 15h30m.\n\nANEXO.
LAST-MODIFIED;VALUE=DATE-TIME:20170302T143347Z
URL:https://www.carambei.pr.leg.br/institucional/agenda-de-eventos/reuniao
 -projeto-antitabagismo-13h30m-as-15h30m
END:VEVENT
END:VCALENDAR
