BEGIN:VCALENDAR
VERSION:2.0
PRODID:-//Plone.org//NONSGML plone.app.event//EN
X-WR-TIMEZONE:America/Argentina/Buenos_Aires
BEGIN:VEVENT
SUMMARY:Reunião Secretaria Munic de Educação.
DTSTART;TZID=Brazil/East;VALUE=DATE-TIME:20171005T000000
DTEND;TZID=Brazil/East;VALUE=DATE-TIME:20171005T235500
DTSTAMP;VALUE=DATE-TIME:20260422T060318Z
UID:d863cf6c6c0146c883d650c4bde5c38c@www.carambei.pr.leg.br
CREATED;VALUE=DATE-TIME:20170608T181410Z
LAST-MODIFIED;VALUE=DATE-TIME:20170608T181420Z
URL:https://www.carambei.pr.leg.br/institucional/agenda-de-eventos/reuniao
 -secretaria-munic-de-educacao-3
END:VEVENT
BEGIN:VTIMEZONE
TZID:Brazil/East
X-LIC-LOCATION:Brazil/East
BEGIN:STANDARD
DTSTART;VALUE=DATE-TIME:20170218T230000
TZNAME:BRT
TZOFFSETFROM:-0200
TZOFFSETTO:-0300
END:STANDARD
END:VTIMEZONE
END:VCALENDAR
