BEGIN:VCALENDAR
VERSION:2.0
PRODID:-//Plone.org//NONSGML plone.app.event//EN
X-WR-TIMEZONE:America/Argentina/Buenos_Aires
BEGIN:VEVENT
SUMMARY:Reunião Secretaria Munic de Educação.
DTSTART;VALUE=DATE:20170704
DTEND;VALUE=DATE:20170705
DTSTAMP;VALUE=DATE-TIME:20260421T235113Z
UID:85f075b979904e71885be65577d02d20@www.carambei.pr.leg.br
CREATED;VALUE=DATE-TIME:20170608T181122Z
LAST-MODIFIED;VALUE=DATE-TIME:20170608T181136Z
URL:https://www.carambei.pr.leg.br/institucional/agenda-de-eventos/reuniao
 -secretaria-munic-de-educacao
END:VEVENT
END:VCALENDAR
