BEGIN:VCALENDAR
VERSION:2.0
PRODID:-//Plone.org//NONSGML plone.app.event//EN
X-WR-TIMEZONE:America/Argentina/Buenos_Aires
BEGIN:VEVENT
SUMMARY:Roda de conversa 
DTSTART;VALUE=DATE:20230427
DTEND;VALUE=DATE:20230428
DTSTAMP;VALUE=DATE-TIME:20260422T042907Z
UID:30395e129db94944a852ea76c4d678a9@www.carambei.pr.leg.br
CREATED;VALUE=DATE-TIME:20230424T175916Z
LAST-MODIFIED;VALUE=DATE-TIME:20230424T180313Z
URL:https://www.carambei.pr.leg.br/institucional/agenda-de-eventos/roda-de
 -conversas
END:VEVENT
END:VCALENDAR
