BEGIN:VCALENDAR
VERSION:2.0
PRODID:-//Plone.org//NONSGML plone.app.event//EN
X-WR-TIMEZONE:America/Argentina/Buenos_Aires
BEGIN:VEVENT
SUMMARY:Segunda Audiência Pública 2023. (Sec. Saúde)
DTSTART;VALUE=DATE:20231002
DTEND;VALUE=DATE:20231003
DTSTAMP;VALUE=DATE-TIME:20260421T203855Z
UID:9511297ec32c45d190c9d09a19498549@www.carambei.pr.leg.br
CREATED;VALUE=DATE-TIME:20230920T194400Z
LAST-MODIFIED;VALUE=DATE-TIME:20230920T194406Z
URL:https://www.carambei.pr.leg.br/institucional/agenda-de-eventos/segunda
 -audiencia-publica-2023-sec-saude
END:VEVENT
END:VCALENDAR
