BEGIN:VCALENDAR
VERSION:2.0
PRODID:-//Plone.org//NONSGML plone.app.event//EN
X-WR-TIMEZONE:America/Argentina/Buenos_Aires
BEGIN:VEVENT
SUMMARY:Segunda Audiência Pública de 2022 da Secretaria Municipal de Sa
 úde
DTSTART;VALUE=DATE:20221006
DTEND;VALUE=DATE:20221007
DTSTAMP;VALUE=DATE-TIME:20260421T231209Z
UID:856e54faf2b545bea61ff88582901b8e@www.carambei.pr.leg.br
CREATED;VALUE=DATE-TIME:20220923T191544Z
LAST-MODIFIED;VALUE=DATE-TIME:20220923T191553Z
URL:https://www.carambei.pr.leg.br/institucional/agenda-de-eventos/segunda
 -audiencia-publica-de-2022-da-secretaria-municipal-de-saude
END:VEVENT
END:VCALENDAR
