BEGIN:VCALENDAR
VERSION:2.0
PRODID:-//Plone.org//NONSGML plone.app.event//EN
X-WR-TIMEZONE:America/Argentina/Buenos_Aires
BEGIN:VEVENT
SUMMARY:Sessão Solene CONSEG/Carambeí 
DTSTART;VALUE=DATE:20240704
DTEND;VALUE=DATE:20240705
DTSTAMP;VALUE=DATE-TIME:20260422T023542Z
UID:37241b5ab0c646b6ba044a6ab6bd57ba@www.carambei.pr.leg.br
CREATED;VALUE=DATE-TIME:20240702T172514Z
LAST-MODIFIED;VALUE=DATE-TIME:20240702T172522Z
URL:https://www.carambei.pr.leg.br/institucional/agenda-de-eventos/sessao-
 solene-conseg-carambei
END:VEVENT
END:VCALENDAR
