BEGIN:VCALENDAR
VERSION:2.0
PRODID:-//Plone.org//NONSGML plone.app.event//EN
X-WR-TIMEZONE:America/Argentina/Buenos_Aires
BEGIN:VEVENT
SUMMARY:Solenidade CONSEG
DTSTART;VALUE=DATE:20220816
DTEND;VALUE=DATE:20220817
DTSTAMP;VALUE=DATE-TIME:20260421T180837Z
UID:3bd7f80a082c4d618a9aa4adf35381be@www.carambei.pr.leg.br
CREATED;VALUE=DATE-TIME:20220815T164651Z
LAST-MODIFIED;VALUE=DATE-TIME:20220815T164658Z
URL:https://www.carambei.pr.leg.br/institucional/agenda-de-eventos/solenid
 ade-conseg
END:VEVENT
END:VCALENDAR
