BEGIN:VCALENDAR
VERSION:2.0
PRODID:-//Plone.org//NONSGML plone.app.event//EN
X-WR-TIMEZONE:America/Argentina/Buenos_Aires
BEGIN:VEVENT
SUMMARY:Treinamento de Presidente de Mesa Receptora e Secretários.
DTSTART;VALUE=DATE:20220905
DTEND;VALUE=DATE:20220906
DTSTAMP;VALUE=DATE-TIME:20260421T213452Z
UID:f9f03c9f67a84bd1b369e5be0affb3cc@www.carambei.pr.leg.br
CREATED;VALUE=DATE-TIME:20220803T173249Z
LAST-MODIFIED;VALUE=DATE-TIME:20220803T173255Z
URL:https://www.carambei.pr.leg.br/institucional/agenda-de-eventos/treinam
 ento-de-presidente-de-mesa-receptora-e-secretarios
END:VEVENT
END:VCALENDAR
