BEGIN:VCALENDAR
VERSION:2.0
PRODID:-//Plone.org//NONSGML plone.app.event//EN
X-WR-TIMEZONE:America/Argentina/Buenos_Aires
BEGIN:VEVENT
SUMMARY:Visita dos alunos da Esco-Lar.
DTSTART;VALUE=DATE:20230706
DTEND;VALUE=DATE:20230707
DTSTAMP;VALUE=DATE-TIME:20260422T060246Z
UID:c34b664985744cceab04bbd699d1e6d7@www.carambei.pr.leg.br
CREATED;VALUE=DATE-TIME:20230704T204833Z
LAST-MODIFIED;VALUE=DATE-TIME:20230704T204903Z
URL:https://www.carambei.pr.leg.br/institucional/agenda-de-eventos/visita-
 dos-alunos-da-esco-lar
END:VEVENT
END:VCALENDAR
